BEGIN:VCALENDAR
VERSION:2.0
PRODID:-//澳門中樂團 - ECPv5.16.4//NONSGML v1.0//EN
CALSCALE:GREGORIAN
METHOD:PUBLISH
X-WR-CALNAME:澳門中樂團
X-ORIGINAL-URL:https://www.ochm-macau.org
X-WR-CALDESC:Events for 澳門中樂團
BEGIN:VTIMEZONE
TZID:Asia/Shanghai
BEGIN:STANDARD
TZOFFSETFROM:+0800
TZOFFSETTO:+0800
TZNAME:CST
DTSTART:20260101T000000
END:STANDARD
END:VTIMEZONE
BEGIN:VEVENT
DTSTART;TZID=Asia/Shanghai:20260412T200000
DTEND;TZID=Asia/Shanghai:20260412T213000
DTSTAMP:20260420T023335
CREATED:20250829T070040Z
LAST-MODIFIED:20260401T031604Z
UID:42223-1776024000-1776029400@www.ochm-macau.org
SUMMARY:《新韻綻放》菁英音樂會
DESCRIPTION:[vc_row][vc_column width=”2/3″][vc_column_text]日期：2026年4月12日 (星期日)\n時間：15:00\n地點：澳門文化中心綜合劇院 \n指揮：胡栢端\n琵琶：陳甦超\n古箏：王嘯辰\n揚琴：甘雅迪 \n\n\n\n\n\n\n\n\n\n\n\n\n\n\n\n\n\n\n\n\n\n\n\n\n\n\n\n\n澳門中樂團傾力打造專場音樂會，為本澳及大灣區青年音樂才俊搭建綻放光彩的舞台！這場充滿青春活力的音樂盛宴，將展現新一代中樂演奏家的非凡潛力與藝術追求。年輕演奏家們將以精湛技藝詮釋經典與新作，展現中樂傳承與創新的無限可能。不僅是一次專業舞台的歷練，更是一場青春與傳統的美麗邂逅。 \n\n音樂會匯聚優秀青年演奏家與本地音樂新秀，在榮獲第二屆國際中樂指揮大賽亞軍、香港優秀青年指揮獎的指揮家胡栢端帶領下，與專業樂團同台獻藝。胡指揮以其細膩的音樂處理和充滿激情的舞台魅力，將引領年輕音樂家們突破自我，迸發無限火花。讓我們共同見證這些音樂新星的璀璨綻放！ \n\n演出時間連中場休息約1小時30分鐘 \n\n\n[/vc_column_text][/vc_column][vc_column width=”1/3″][vc_column_text] \n票價 : MOP 200/160/130/100\n[/vc_column_text][vc_btn title=”立即購票” style=”gradient-custom” gradient_custom_color_1=”#ff6e02″ size=”lg” align=”center” button_block=”true” link=”url:https%3A%2F%2Fwww.macauticket.com%2FTicketWeb2023%2Fprogramme%2FP-055607||target:%20_blank|”][vc_btn title=”“樂隊成員”及 “大灣區青年獨奏家”招募章程” color=”turquoise” size=”lg” link=”url:https%3A%2F%2Fwww.ochm-macau.org%2F2026elite-concert-blossom-and-flourish%2F|title:%E6%BE%B3%E9%96%80%E4%B8%AD%E6%A8%82%E5%9C%98%E3%80%8A%E6%96%B0%E9%9F%BB%E7%B6%BB%E6%94%BE%E3%80%8B%E8%8F%81%E8%8B%B1%E9%9F%B3%E6%A8%82%E6%9C%83%E2%80%9C%E6%A8%82%E9%9A%8A%E6%88%90%E5%93%A1%E2%80%9D%E5%8F%8A%20%E2%80%9C%E5%A4%A7%E7%81%A3%E5%8D%80%E9%9D%92%E5%B9%B4%E7%8D%A8%E5%A5%8F%E5%AE%B6%E2%80%9D%E6%8B%9B%E5%8B%9F%E7%AB%A0%E7%A8%8B||”][/vc_column][vc_column width=”1/3″][vc_column_text][/vc_column_text][/vc_column][/vc_row][vc_row][vc_column][/vc_column][/vc_row]
URL:https://www.ochm-macau.org/event/%e8%8f%81%e8%8b%b1%e9%9f%b3%e6%a8%82%e6%9c%83%e3%80%8a%e6%96%b0%e9%9f%bb%e7%b6%bb%e6%94%be%e3%80%8b-2/
LOCATION:澳門文化中心綜合劇院
CATEGORIES:閃爍推介系列
ATTACH;FMTTYPE=image/jpeg:https://www.ochm-macau.org/wp-content/uploads/2025/08/右2_-胡柏端_相片2-注意-使用相片必須Credit-to-香港中樂團-1.jpg
END:VEVENT
END:VCALENDAR